Workbook
Name Excel_BuiltIn_Print_Area: 'Прил.10_закуп товаров'!#REF!
Name Excel_BuiltIn_Print_Area: 'Прил.9_ф-2 Инвест.пр.'!#REF!
Name TABLE: 'Прил.10_закуп товаров'!#REF!
Name TABLE: 'Прил.5_ф-2_Реализ.заявок'!#REF!
Name TABLE: 'Прил.9_ф-2 Инвест.пр.'!#REF!
Name TABLE_2: 'Прил.10_закуп товаров'!#REF!
Name TABLE_2: 'Прил.5_ф-2_Реализ.заявок'!#REF!
Name TABLE_2: 'Прил.9_ф-2 Инвест.пр.'!#REF!

Sheet Раскрытие инф 960.22_08.12.22
A1: ООО Индустриальный Парк "Станкомаш"
A3: Раскрытие информации (к приказу ФАС России от 08.12.2022 № 960/22) | B3: 2026 год | F3: лист
A5: Приложение № 1. Форма 3. Информация о тарифах на услуги по транспортировке газа по газораспределительным сетям. | B5: открыть>> | D5: ежегодно | E5: в 10-дневный срок от даты официального опубликования | F5: Прил.1_ф-3_Тарифы
A6: Приложение № 1. Форма 4. Информация о специальных надбавках на услуги по транспортировке газа по газораспределительным сетям. | B6: Открыть >> | D6: ежегодно | E6: в 10-дневный срок от даты официального опубликования | F6: Прил.1_ф-4_Спец.надб
A7: Приложение № 2. Форма 6. Информация об основных показателях финансово-хозяйственной деятельности в сфере оказания услуг по транспортировке газа по газораспределительным сетям ПЛАН 2026. | B7: открыть >> | D7: ежегодно | E7: информация о плановых показателях в течение первого квартала года, информация о плановых расчетных показателях - в 10-дневный срок после пересмотра или утверждения тарифов; информация о фактических показателях (отчет) - | F7: Прил.2_ф-6_ПЛАН_ОПФ-ХД
A8: Приложение № 2. Форма 6. Информация об основных показателях финансово-хозяйственной деятельности в сфере оказания услуг по транспортировке газа по газораспределительным сетям ФАКТ 2026. (раскрытие с 01.01.2026 по 01.08.2026) | B8: открыть >> | D8: ежегодно | E8: информация о плановых показателях в течение первого квартала года, информация о плановых расчетных показателях - в 10-дневный срок после пересмотра или утверждения тарифов; информация о фактических показателях (отчет) - | F8: Прил.2_ф-6_ФАКТ_ОПФ-ХД
A9: Приложение № 2. Форма 7. Информация об объёмах транспортировки газа ПЛАН на 2026 год в сфере оказания услуг по транспортировке газа по газораспределительным сетям, с детализацией по группам газопотребления. | B9: открыть>> | D9: ежегодно | E9: информация о плановых показателях в течение первого квартала года, информация о плановых расчетных показателях - в 10-дневный срок после пересмотра или утверждения тарифов; информация о фактических показателях (отчет) - | F9: Прил.2_ф-7_ПЛАН_-объемы
A10: Приложение № 2. Форма 7. Информация об объёмах транспортировки газа ФАКТ за 2026 год в сфере оказания услуг по транспортировке газа по газораспределительным сетям, с детализацией по группам газопотребления. | B10: открыть>> | D10: ежегодно | E10: информация о плановых показателях в течение первого квартала года, информация о плановых расчетных показателях - в 10-дневный срок после пересмотра или утверждения тарифов; информация о фактических показателях (отчет) - | F10: Прил.2_ф-7_ФАКТ_-объемы
A11: Приложение № 3. Форма 3. Информация об основных потребительских характеристиках регулируемых услуг и их соответствии стандартам качества в сфере оказания услуг по транспортировке газа по газораспределительным сетям | B11: открыть>> | D11: ежегодно (по мере изменения потребительских характеристик услуг и (или) стандартов качества оказания регулируемых услуг) | E11: через 10 дней после утверждения в установленном порядке показателей надежности и качества услуг по транспортировке газа, но не позднее 15 октября (в случае изменения потребительских характеристик услуг и (или) стандартов качества - в 10-дневный срок после вступления в силу указанных изменений) | F11: Прил.3_ф-3_ПНК
A12: Приложение № 4. Форма 6. Информация о наличии (отсутствии) технической возможности доступа к регулируемым услугам по транспортировке газа по газораспределительным сетям для целей определения возможности технологического присоединения, ПЛАН 2026 г. | B12: открыть>> | D12: ежемесячно | E12: не позднее 1 декабря текущего календарного года - информация о плановых показателях на следующий календарный год с помесячной детализацией | F12: Прил.4_ф-6_ПЛАН налич.возм
A13: Приложение № 4. Форма 6. Информация о наличии (отсутствии) технической возможности доступа к регулируемым услугам по транспортировке газа по газораспределительным сетям, ФАКТ 2026 г. | B13: открыть>> | D13: ежемесячно | E13: в течение 10 дней по окончании календарного месяца - информация о фактических показателях за прошедший месяц | F13: Прил.4_ф-6_ФАКТ налич.возм
A14: Приложение № 4. Форма 7. Информация о наличии (отсутствии) технической возможности доступа к регулируемым услугам по транспортировке газа по газораспределительным сетям (с детализацией по группам газопотребления), ФАКТ 2026г. | B14: открыть>> | D14: ежемесячно | E14: информация о фактических показателях за прошедший месяц в течение 10 дней по окончании календарного месяца | F14: Прил.4_ф-7_Налич.возм.групп
A15: Приложение № 5. Форма 2. Информация о регистрации и ходе реализации заявок на доступ к услугам по транспортировке газа по газораспределительным сетям. | B15: открыть>> | D15: ежемесячно | E15: в течение 10 дней по окончании отчетного периода | F15: Прил.5_ф-2_Реализ.заявок
A16: Приложение №6. Форма 2. Информация о регистрации и ходе реализации заявок о подключении (технологическом присоединении) к газораспределительным сетям. | B16: открыть>> | D16: ежемесячно | E16: в течение 10 дней по окончании отчетного периода | F16: Прил.6_ф-2_Заявки
... A21: Приложение № 10. Информация о способах приобретения, стоимости и объемах товаров, необходимых для оказания услуг по транспортировке газа по трубопроводам, за 2026г. | B21: открыть>> | D21: ежемесячно | E21: в течение 10 дней по окончании отчетного периода | F21: Прил.10_закуп товаров

Sheet Прил.1_ф-3_Тарифы
A1: \ | O1: Приложение № 1
O2: к приказу ФАС России от 08.09.2022 № 960/22
O3: Форма 3
D5: Информация о тарифах | E5: ООО Индустриальный Парк "Станкомаш" | K5: на услуги
E6: (наименование субъекта естественной монополии)
A7: по транспортировке газа по газораспределительным сетям на территории
E8: Челябинской области
E9: (наименование субъекта Российской Федерации)
D10: в | E10: г. Челябинск, ООО Индустриальный Парк "Станкомаш"
E11: (наименование зоны обслуживания/обособленной системы)
A13: Реквизиты приказа федерального органа исполнительной власти в области регулирования тарифов об установлении тарифа по газораспределительным сетям | L13: от | M13: 828/22 | N13: № | O13: 16.11.2022
A15: Тарифы на услуги по транспортировке газа по газораспределительным сетям (руб./1000 м3) по группам потребителей с объемом потребления газа (млн. м3/год) | L15: Тариф на услуги по транспортировке газа в транзитном потоке (руб./1000 м3)
A16: свыше 500 | C16: от 100 до 500 включительно | D16: от 10 до 100 включительно | E16: от 1 до 10 включительно | F16: от 0,1 до 1 включительно | G16: от 0,01 до 0,1 включительно | J16: до 0,01 включительно | K16: население
E17: период действия с | F17: 01.12.2022 | H17: по | J17: 30.06.2024
A19: - | C19: - | D19: - | E19: - | F19: - | G19: - | J19: - | K19: - | L19: 234.43
E20: период действия с | F20: 01.07.2024 | H20: по | J20: 30.06.2025
A22: - | C22: - | D22: - | E22: - | F22: - | G22: - | J22: - | K22: - | L22: 250.84
E23: период действия с | F23: 01.07.2025 | H23: по
A25: - | C25: - | D25: - | E25: - | F25: - | G25: - | J25: - | K25: - | L25: 268.4

Sheet Прил.1_ф-4_Спец.надб.
A1: \ | M1: Приложение № 1
M2: к приказу ФАС России от 08.09.2022 № 960/22
M3: Форма 3
E5: Информация о специальных надбавках к тарифам | F5: ООО Индустриальный Парк "Станкомаш" | L5: на услуги
F6: (наименование субъекта естественной монополии)
A7: по транспортировке газа по газораспределительным сетям на территории
E8: Челябинской области
E9: (наименование субъекта Российской Федерации)
D10: в | E10: г. Челябинск
E11: (наименование зоны обслуживания/обособленной системы)
A13: Реквизиты акта органа исполнительной власти субъекта Российской Федерации в области государственного регулирования тарифов | K13: от | M13: №
A15: Наименование программы газификации
A16: Специальные надбавки к тарифам на услуги по транспортировке газа по газораспределительным сетям (руб./1000 м3) по группам потребителей с объемом потребления газа (млн м3/год) и для населения
A17: свыше 500 | C17: от 100 до 500 включительно | D17: от 10 до 100 включительно | E17: от 1 до 10 включительно | F17: от 0,1 до 1 включительно | G17: от 0,01 до 0,1 включительно | J17: до 0,01 включительно | K17: население
E18: период действия с | F18: 01.12.2022 | H18: по | J18: 30.06.2024
A20: - | C20: - | D20: - | E20: - | F20: - | G20: - | J20: - | K20: -
E21: период действия с | F21: 01.07.2024 | H21: по | J21: 30.06.2025
A23: - | C23: - | D23: - | E23: - | F23: - | G23: - | J23: - | K23: -
E24: период действия с | F24: 01.07.2025 | H24: по
A26: - | C26: - | D26: - | E26: - | F26: - | G26: - | J26: - | K26: -

Sheet Прил.2_ф-6_ПЛАН_ОПФ-ХД
CX1: Приложение № 2
CX2: к приказу ФАС России от 08.09.2022 № 960/22
CX3: Форма 6
A4: Информация об основных показателях финансово-хозяйственной деятельности
P5: ООО Индустриальный Парк "Станкомаш" | BS5: на 20 | CE5: 26 | CI5: год
P6: (наименование субъекта естественной монополии)
A7: в сфере оказания услуг по транспортировке газа по газораспределительным
O8: сетям на территории | AO8: Челябинской области
AO9: (наименование субъекта Российской Федерации)
CH10: ПЛАН
A11: № | I11: Наименование показателя | BX11: Единицы измерения | CH11: Всего
A12: 1 | J12: Расходы на транспортировку газа по данным бухгалтерского учета всего, в том числе: | BX12: тыс. руб. | CH12: =CH13+CH14+CH15+CH20+CH21 -> 3396.59
A13: 1.1 | J13: Фонд оплаты труда | BX13: тыс. руб. | CH13: 1998.72
A14: 1.2 | J14: Отчисление на уплату страховых взносов | BX14: тыс. руб. | CH14: 603.61
A15: 1.3 | J15: Материальные затраты, в том числе: | BX15: тыс. руб. | CH15: =SUM(CH16:CX19) -> 295.29
A16: 1.3.1 | J16: сырье и материалы | BX16: тыс. руб. | CH16: 295.29
A17: 1.3.2 | J17: газ на собственные и технологические нужды | BX17: тыс. руб.
A18: 1.3.3 | J18: технологические и эксплуатационные потери | BX18: тыс. руб.
A19: 1.3.4 | J19: прочие | BX19: тыс. руб.
A20: 1.4 | J20: Амортизация основных средств | BX20: тыс. руб. | CH20: 118.68
A21: 1.5 | J21: Прочие затраты, в том числе: | BX21: тыс. руб. | CH21: =CH22+CH27+CH30+CH35+CH45+CH46 -> 380.29
A22: 1.5.1 | J22: Арендная плата (лизинг), в том числе: | BX22: тыс. руб. | CH22: =SUM(CH23:CX26) -> 0
A23: 1.5.1.1 | J23: аренда (лизинг) здания, транспорта | BX23: тыс. руб.
A24: 1.5.1.2 | J24: аренда газопроводов у юридических и физических лиц | BX24: тыс. руб.
A25: 1.5.1.3 | J25: аренда (концессия) газопроводов, находящихся в государственной и муниципальной собственности | BX25: тыс. руб.
A26: 1.5.1.4 | J26: аренда земельного участка | BX26: тыс. руб.
A27: 1.5.2 | J27: Страховые платежи, в том числе: | BX27: тыс. руб. | CH27: =SUM(CH28:CX29) -> 15.74
A28: 1.5.2.1 | J28: страхование опасных производственных объектов (ответственность перед третьими лицами) | BX28: тыс. руб. | CH28: 15.74
A29: 1.5.2.2 | J29: страхование машин и оборудования | BX29: тыс. руб.
A30: 1.5.3 | J30: Налоги, в том числе: | BX30: тыс. руб. | CH30: =SUM(CH31:CX34) -> 0
A31: 1.5.3.1 | J31: налог на имущество | BX31: тыс. руб.
A32: 1.5.3.2 | J32: налог на загрязнение окружающей среды | BX32: тыс. руб.
A33: 1.5.3.3 | J33: единый транспортный налог | BX33: тыс. руб.
A34: 1.5.3.4 | J34: земельный налог | BX34: тыс. руб.
A35: 1.5.4 | J35: Услуги сторонних организаций | BX35: тыс. руб. | CH35: =SUM(CH36:CX40) -> 15.6
A36: 1.5.4.1 | J36: услуги средств связи | BX36: тыс. руб. | CH36: 15.6
A37: 1.5.4.2 | J37: оплата вневедомственной охраны | BX37: тыс. руб.
A38: 1.5.4.3 | J38: информационно-вычислительные услуги | BX38: тыс. руб.
A39: 1.5.4.4 | J39: аудиторские услуги | BX39: тыс. руб.
A40: 1.5.4.5 | J40: прочие, в том числе: | BX40: тыс. руб. | CH40: =SUM(CH41:CX44) -> 0
...

Sheet Прил.2_ф-6_ФАКТ_ОПФ-ХД
CX1: Приложение № 2
CX2: к приказу ФАС России от 18.01.2019 № 38/19
CX3: Форма 6
A4: Информация об основных показателях финансово-хозяйственной деятельности
P5: ООО Индустриальный Парк "Станкомаш" | BS5: за 20 | CE5: 26 | CI5: год
P6: (наименование субъекта естественной монополии)
A7: в сфере оказания услуг по транспортировке газа по газораспределительным
O8: сетям на территории | AO8: Челябинской области
AO9: (наименование субъекта Российской Федерации)
A11: № | I11: Наименование показателя | BX11: Единицы измерения | CH11: Всего
A12: 1 | J12: Расходы на транспортировку газа по данным бухгалтерского учета всего, в том числе: | BX12: тыс. руб. | CH12: =CH13+CH14+CH15+CH20+CH21 -> 0
A13: 1.1 | J13: Фонд оплаты труда | BX13: тыс. руб.
A14: 1.2 | J14: Отчисление на уплату страховых взносов | BX14: тыс. руб.
A15: 1.3 | J15: Материальные затраты, в том числе: | BX15: тыс. руб. | CH15: =SUM(CH16:CX19) -> 0
A16: 1.3.1 | J16: сырье и материалы | BX16: тыс. руб. | CY16: Материалы
A17: 1.3.2 | J17: газ на собственные и технологические нужды | BX17: тыс. руб.
A18: 1.3.3 | J18: технологические и эксплуатационные потери | BX18: тыс. руб.
A19: 1.3.4 | J19: прочие | BX19: тыс. руб.
A20: 1.4 | J20: Амортизация основных средств | BX20: тыс. руб.
A21: 1.5 | J21: Прочие затраты, в том числе: | BX21: тыс. руб. | CH21: =CH22+CH27+CH30+CH35+CH45+CH46 -> 0
A22: 1.5.1 | J22: Арендная плата (лизинг), в том числе: | BX22: тыс. руб. | CH22: =SUM(CH23:CX26) -> 0
A23: 1.5.1.1 | J23: аренда (лизинг) здания, транспорта | BX23: тыс. руб.
A24: 1.5.1.2 | J24: аренда газопроводов у юридических и физических лиц | BX24: тыс. руб.
A25: 1.5.1.3 | J25: аренда (концессия) газопроводов, находящихся в государственной и муниципальной собственности | BX25: тыс. руб.
A26: 1.5.1.4 | J26: аренда земельного участка | BX26: тыс. руб. | CY26: АРЕНДА ТНН и М-Г
A27: 1.5.2 | J27: Страховые платежи, в том числе: | BX27: тыс. руб. | CH27: =SUM(CH28:CX29) -> 0
A28: 1.5.2.1 | J28: страхование опасных производственных объектов (ответственность перед третьими лицами) | BX28: тыс. руб. | CY28: МТС
A29: 1.5.2.2 | J29: страхование машин и оборудования | BX29: тыс. руб.
A30: 1.5.3 | J30: Налоги, в том числе: | BX30: тыс. руб. | CH30: =SUM(CH31:CX34) -> 0
A31: 1.5.3.1 | J31: налог на имущество | BX31: тыс. руб.
A32: 1.5.3.2 | J32: налог на загрязнение окружающей среды | BX32: тыс. руб.
A33: 1.5.3.3 | J33: единый транспортный налог | BX33: тыс. руб.
A34: 1.5.3.4 | J34: земельный налог | BX34: тыс. руб.
A35: 1.5.4 | J35: Услуги сторонних организаций | BX35: тыс. руб. | CH35: =SUM(CH36:CX40) -> 0
A36: 1.5.4.1 | J36: услуги средств связи | BX36: тыс. руб.
A37: 1.5.4.2 | J37: оплата вневедомственной охраны | BX37: тыс. руб.
A38: 1.5.4.3 | J38: информационно-вычислительные услуги | BX38: тыс. руб.
A39: 1.5.4.4 | J39: аудиторские услуги | BX39: тыс. руб.
A40: 1.5.4.5 | J40: прочие, в том числе: | BX40: тыс. руб. | CH40: =SUM(CH41:CX44) -> 0
A41: 1.5.4.5.1 | J41: услуги по техническому обслуживанию газораспределительных сетей | BX41: тыс. руб.
...

Sheet Прил.2_ф-7_ПЛАН-объемы
CO1: Приложение № 2
CO2: к приказу ФАС России от 08.09.2022 № 960/22
CO3: Форма 7
A5: Информация об объёмах транспортировки газа | AX5: ООО "Индустриальный Парк "Станкомаш"
AX6: (наименование субъекта естественной монополии)
M7: на 20 | Z7: 26 | AD7: год в сфере оказания услуг по транспортировке газа
A8: по газораспределительным сетям (с детализацией по группам газопотребления)
AL9: на территории | AM9: Челябинской области
AM10: (наименование субъекта Российской Федерации)
Z11: в | AB11: г. Челябинск
AB12: (наименование зоны обслуживания/обособленной системы)
A14: Вид тарифа | BG14: Объемы газа, тыс.м3
B15: Дифференцированный тариф всего, в том числе: | BG15: 0
B16: 1 группа | BG16: 0
B17: 2 группа | BG17: 0
B18: 3 группа | BG18: 0
B19: 4 группа | BG19: 0
B20: 5 группа | BG20: 0
B21: 6 группа | BG21: 0
B22: 7 группа | BG22: 0
B23: 8 группа (население) | BG23: 0
B24: Транзитный тариф | BG24: 12655
B25: Итого: | BG25: =BG24+BG15 -> 12655

Sheet Прил.2_ф-7_ФАКТ_объемы
CO1: Приложение № 2
CO2: к приказу ФАС России от 18.01.2019 № 38/19
CO3: Форма 7
A5: Информация об объёмах транспортировки газа | AX5: ООО "Индустриальный Парк "Станкомаш"
AX6: (наименование субъекта естественной монополии)
M7: за 20 | Z7: 26 | AD7: год в сфере оказания услуг по транспортировке газа
A8: по газораспределительным сетям (с детализацией по группам газопотребления)
AL9: на территории | AM9: Челябинской области
AM10: (наименование субъекта Российской Федерации)
A11: в | C11: г. Челябинск
C12: (наименование зоны обслуживания/обособленной системы)
BG13: период 01.01.2026 по 31.08.2026 года
A14: Вид тарифа | BG14: Объемы газа, тыс.м3
B15: Дифференцированный тариф всего, в том числе: | BG15: 0
B16: 1 группа | BG16: 0
B17: 2 группа | BG17: 0
B18: 3 группа | BG18: 0
B19: 4 группа | BG19: 0
B20: 5 группа | BG20: 0
B21: 6 группа | BG21: 0
B22: 7 группа | BG22: 0
B23: 8 группа (население) | BG23: 0
B24: Транзитный тариф | BG24: =('Прил.4_ф-6_ФАКТ налич.возм'!G33+'Прил.4_ф-6_ФАКТ налич.возм'!G66+'Прил.4_ф-6_ФАКТ налич.возм'!G99+'Прил.4_ф-6_ФАКТ налич.возм'!G132+'Прил.4_ф-6_ФАКТ налич.возм'!G165+'Прил.4_ф-6_ФАКТ налич.возм'!G198+'Прил.4_ф-6_ФАКТ налич.возм'!G231+'Прил.4_ф-6_ФАКТ налич.возм'!G264+'Прил.4_ф-6_ФАКТ налич.возм'!G297+'Прил.4_ф-6_ФАКТ налич.возм'!G330+'Прил.4_ф-6_ФАКТ налич.возм'!G363+'Прил.4_ф-6_ФАКТ налич.возм'!G396)*1000 -> 10643.998
B25: Итого: | BG25: =BG24+BG15 -> 10643.998

Sheet Прил.3_ф-3_ПНК
DA1: Приложение № 3
DA2: к приказу ФАС России от 08.09.2022 № 960/22
DA3: Форма 3
A5: Информация об основных потребительских характеристиках регулируемых услуг
A6: и их соответствии стандартам качества | AW6: ООО "Индустриальный Парк "Станкомаш"
AW7: (наименование субъекта естественной монополии)
Q9: на 20 | X9: 26 | AB9: год в сфере оказания услуг по транспортировке газа
A10: по газораспределительным сетям на территории
Y11: Челябинская область
Y12: (наименование субъекта Российской Федерации)
A13: в | C13: г. Челябинск
C14: (наименование зоны обслуживания/обособленной системы)
A16: Наименование показателя | AJ16: Значение планового показателя на 2026г (Пост.81/17 от 28.11.2025 г.) | BA16: Значение фактического показателя за 2024 год (Пост.60/1 от 23.09.2025 г.) | BR16: Место размещения сведений в информационно-коммуникационной сети "Интернет" | CI16: Реквизиты
A17: 1 | AJ17: 2 | BA17: 3 | BR17: 4 | CI17: 5
B18: Показатель надежности услуг по транспортировке газа по газораспределительным сетям (Кнад) | AJ18: 1 | BA18: 1 | BR18: https://stankomash.konar.ru/raskrytie-informacii/
B19: Показатель качества услуг по транспортировке газа по газораспределительным сетям (Ккач) | AJ19: 1 | BA19: 1 | BR19: https://stankomash.konar.ru/raskrytie-informacii/
B20: Обобщенный показатель надежности и качества оказываемых услуг (Коб) | AJ20: 1 | BA20: 1 | BR20: https://stankomash.konar.ru/raskrytie-informacii/
B21: Сведения о лицензии | CI21: № ВХ-56-004925 от 29.02.2016г.

Sheet Прил.4_ф-6_ПЛАН налич.возм
H1: Приложение № 4
H2: к приказу ФАС России от 18.01.2019 № 38/19
H3: Форма 6
A5: Информация о наличии (отсутствии) технической возможности доступа к регулируемым услугам
D6: по транспортировке газа по газораспределительным сетям | E6: ООО Индустриальный Парк "Станкомаш"
E7: (наименование субъекта естественной монополии)
E8: ПЛАН
D10: на | E10: ЯНВАРЬ | F10: 2026 года
A12: период 01.01.2026 по 31.01.2026 года
A13: № п/п | B13: Точка входа в газораспределительную сеть | C13: Точка выхода из газораспределительной сети | D13: Наименование потребителя | E13: Номер группы газопотребления/ транзит | F13: Объемы газа в соответствии с поступившими заявками, млн. куб. м | G13: Объемы газа в соответствии с удовлетворенными заявками, млн. куб. м | H13: Свободная мощность газораспределительной сети, млн. куб. м
B14: 1 | C14: 2 | D14: 3 | E14: 4 | F14: 5 | G14: 6 | H14: 7
A15: 1 | B15: ГРП г. Челябинск ул. Енисейская 8 | C15: ООО "БВК" | D15: ООО "БВК" | E15: транзит | F15: 0.7 | J15: 0.95 | K15: 0.8 | L15: 0.8 | M15: 0.45 | N15: 0.25 | O15: 0.2 | P15: 0.3 | Q15: 0.35 | R15: 0.4 | S15: 0.7 | T15: 0.9 | U15: 1
A16: 2 | C16: ООО "Модерн-Гласс" | D16: ООО "Модерн-Гласс" | E16: транзит | F16: 0.29 | J16: 0.29 | K16: 0.275 | L16: 0.25 | M16: 0.24 | N16: 0.23 | O16: 0.21 | P16: 0.21 | Q16: 0.21 | R16: 0.22 | S16: 0.25 | T16: 0.275 | U16: 0.29
A17: 3 | C17: ООО "КРУГ" | D17: =C17 -> ООО "КРУГ" | E17: транзит | F17: 0.09 | J17: 0.09 | K17: 0.1 | L17: 0.1 | M17: 0.085 | N17: 0.09 | O17: 0.085 | P17: 0.085 | Q17: 0.085 | R17: 0.085 | S17: 0.09 | T17: 0.095 | U17: 0.1
A18: 4 | C18: ИП Первухин Л.В. | D18: =C18 -> ИП Первухин Л.В. | E18: транзит | F18: 0.014 | J18: 0.014 | K18: 0.012 | L18: 0.009089 | M18: 0.007 | N18: 0.0016 | O18: 0.001 | P18: 0.001 | Q18: 0.001 | R18: 0.0015 | S18: 0.01 | T18: 0.012 | U18: 0.013
A19: 5 | C19: АО "ТНН" | D19: =C19 -> АО "ТНН" | E19: транзит | F19: 0.1 | J19: 0.1 | K19: 0.08 | L19: 0.055 | M19: 0.02 | N19: 0.005 | O19: 0.002 | P19: 0.002 | Q19: 0.002 | R19: 0.005 | S19: 0.04 | T19: 0.08 | U19: 0.1
A20: 6 | C20: АО "ТНН" | D20: =C20 -> АО "ТНН" | E20: транзит | F20: 0.025 | J20: 0.025 | K20: 0.02 | L20: 0.02 | M20: 0.01 | N20: 0.005 | O20: 0 | P20: 0 | Q20: 0 | R20: 0.005 | S20: 0.015 | T20: 0.02 | U20: 0.025
A21: 7 | C21: АО "РЭД" | D21: =C21 -> АО "РЭД" | E21: транзит | F21: 0.25 | J21: 0.25 | K21: 0.23 | L21: 0.155 | M21: 0.09 | N21: 0.03 | O21: 0.02 | P21: 0.02 | Q21: 0.02 | R21: 0.03 | S21: 0.09 | T21: 0.155 | U21: 0.25
A22: 8 | C22: ООО "РАМА" | D22: =C22 -> ООО "РАМА" | E22: транзит | F22: 0.0302 | J22: 0.0302 | K22: 0.0272 | L22: 0.0202 | M22: 0.0172 | N22: 0.0082 | O22: 0.0072 | P22: 0.0072 | Q22: 0.0072 | R22: 0.0082 | S22: 0.0172 | T22: 0.0272 | U22: 0.0302
A23: 9 | C23: ООО "Промсырье" | D23: =C23 -> ООО "Промсырье" | E23: транзит | F23: 0.01 | J23: 0.01 | K23: 0.009 | L23: 0.007 | M23: 0.007 | N23: 0.008 | O23: 0.008 | P23: 0.008 | Q23: 0.008 | R23: 0.008 | S23: 0.008 | T23: 0.009 | U23: 0.01
A24: 10 | C24: ООО "ЧМСК" | D24: =C24 -> ООО "ЧМСК" | E24: транзит | F24: 0
C25: ИП Бадьина О.С. | D25: ИП Бадьина О.С. | E25: транзит | F25: 0
C26: ООО" СКТ" | D26: ООО" СКТ" | E26: транзит | F26: 0
A27: 11 | C27: ИП Климцова А.В. | D27: АЛЬЯНС ООО ПК | E27: транзит | F27: 0
D28: ИНВЕСТСЕРВИС ООО | E28: транзит | F28: 0
D29: ПЛАНЕТА АВТО ООО | E29: транзит | F29: 0
A30: 12 | C30: ООО "Технопарк "Тракторозаводский"" | D30: ООО "Технопарк "Тракторозаводский"" | E30: транзит | F30: 0
A31: 13 | C31: ООО "Лизард" | D31: =C31 -> ООО "Лизард" | E31: транзит | F31: 0 | J31: 0.0025 | K31: 0.0025 | L31: 0.002 | M31: 0.002 | N31: 0 | O31: 0 | P31: 0 | Q31: 0 | R31: 0.0015 | S31: 0.0025 | T31: 0.0025 | U31: 0.0025
A32: 14 | C32: ООО "Научно-производственный центр гидроавтоматики" | D32: =C32 -> ООО "Научно-производственный центр гидроавтоматики" | E32: транзит | F32: 0 | J32: 0.059 | K32: 0.055 | L32: 0.036 | M32: 0.025 | N32: 0 | O32: 0 | P32: 0 | Q32: 0 | R32: 0 | S32: 0.025 | T32: 0.039 | U32: 0.051
B33: ИТОГО: | F33: =SUM(F15:F32) -> 1.5092
H34: Приложение № 4 | J34: 4 | K34: 3.6 | L34: 3.4 | M34: 2.5 | N34: 2.2 | O34: 2 | P34: 2 | Q34: 2.15 | R34: 2.35 | S34: 3 | T34: 3.5 | U34: 4.3
H35: к приказу ФАС России от 18.01.2019 № 38/19
H36: Форма 6
A38: Информация о наличии (отсутствии) технической возможности доступа к регулируемым услугам
D39: по транспортировке газа по газораспределительным сетям | E39: ООО Индустриальный Парк "Станкомаш"
E40: (наименование субъекта естественной монополии)
E41: ПЛАН
D43: на | E43: ФЕВРАЛЬ | F43: 2026 года
A45: период 01.02.2026 по 29.02.2026 года
A46: № п/п | B46: Точка входа в газораспределительную сеть | C46: Точка выхода из газораспределительной сети | D46: Наименование потребителя | E46: Номер группы газопотребления/ транзит | F46: Объемы газа в соответствии с поступившими заявками, млн. куб. м | G46: Объемы газа в соответствии с удовлетворенными заявками, млн. куб. м | H46: Свободная мощность газораспределительной сети, млн. куб. м
...

Sheet Прил.4_ф-6_ФАКТ налич.возм
H1: Приложение № 4
H2: к приказу ФАС России от 08.09.2022 № 960/22
H3: Форма 6
A5: Информация о наличии (отсутствии) технической возможности доступа к регулируемым услугам
D6: по транспортировке газа по газораспределительным сетям | E6: ООО Индустриальный Парк "Станкомаш"
E7: (наименование субъекта естественной монополии)
E8: ФАКТ
D10: за | E10: ЯНВАРЬ | F10: 2026 года
A12: период 01.01.2026 по 31.01.2026 года
A13: № п/п | B13: Точка входа в газораспределительную сеть | C13: Точка выхода из газораспределительной сети | D13: Наименование потребителя | E13: Номер группы газопотребления/ транзит | F13: Объемы газа в соответствии с поступившими заявками, млн. куб. м | G13: Объемы газа в соответствии с удовлетворенными заявками, млн. куб. м | H13: Свободная мощность газораспределительной сети, млн. куб. м
B14: 1 | C14: 2 | D14: 3 | E14: 4 | F14: 5 | G14: 6 | H14: 7
A15: 1 | B15: ГРП | C15: ООО "БВК" | D15: ООО "БВК" | E15: транзит | F15: 0.85 | G15: 0.938991 | H15: =F15-G15 -> -0.088991
A16: 2 | C16: ООО "Модерн-Гласс" | D16: ООО "Модерн-Гласс" | E16: транзит | F16: 0.6 | G16: 0.620054 | H16: =F16-G16 -> -0.020054
A17: 3 | C17: ООО "КРУГ" | D17: =C17 -> ООО "КРУГ" | E17: транзит | F17: ='Прил.4_ф-6_ПЛАН налич.возм'!F17 -> 0.09 | G17: 0.018102 | H17: =F17-G17 -> 0.071898
A18: 4 | C18: ИП Первухин Л.В. | D18: =C18 -> ИП Первухин Л.В. | E18: транзит | F18: ='Прил.4_ф-6_ПЛАН налич.возм'!F18 -> 0.014 | G18: 0.017229 | H18: =F18-G18 -> -0.003229
A19: 5 | C19: АО "ТНН" | D19: =C19 -> АО "ТНН" | E19: транзит | F19: ='Прил.4_ф-6_ПЛАН налич.возм'!F19 -> 0.1 | G19: 0.095667 | H19: =F19-G19 -> 0.004333
A20: 6 | C20: АО "ТНН" | D20: =C20 -> АО "ТНН" | E20: транзит | F20: ='Прил.4_ф-6_ПЛАН налич.возм'!F20 -> 0.025 | G20: 0.02511 | H20: =F20-G20 -> -0.00011
A21: 7 | C21: АО "РЭД" | D21: =C21 -> АО "РЭД" | E21: транзит | F21: ='Прил.4_ф-6_ПЛАН налич.возм'!F21 -> 0.25 | G21: 0.111072 | H21: =F21-G21 -> 0.138928
A22: 8 | C22: ООО "РАМА" | D22: =C22 -> ООО "РАМА" | E22: транзит | F22: ='Прил.4_ф-6_ПЛАН налич.возм'!F22 -> 0.0302 | G22: 0.025246 | H22: =F22-G22 -> 0.004954
A23: 9 | C23: ООО "Промсырье" | D23: =C23 -> ООО "Промсырье" | E23: транзит | F23: ='Прил.4_ф-6_ПЛАН налич.возм'!F23 -> 0.01 | G23: 0.002 | H23: =F23-G23 -> 0.008
A24: 10 | C24: ООО "ЧМСК" | D24: =C24 -> ООО "ЧМСК" | E24: транзит | F24: ='Прил.4_ф-6_ПЛАН налич.возм'!F24 -> 0 | G24: 0.01 | H24: =F24-G24 -> -0.01
A25: 11 | C25: ИП Бадьина О.С. | D25: ИП Бадьина О.С. | E25: транзит | F25: ='Прил.4_ф-6_ПЛАН налич.возм'!F25 -> 0 | G25: 0.010479 | H25: =F25-G25 -> -0.010479
C26: ООО" СКТ" | D26: ООО" СКТ" | E26: транзит | F26: ='Прил.4_ф-6_ПЛАН налич.возм'!F26 -> 0 | G26: 0.121006 | H26: =F26-G26 -> -0.121006
A27: 12 | C27: ИП Климцова А.В. | D27: АЛЬЯНС ООО ПК | E27: транзит | F27: ='Прил.4_ф-6_ПЛАН налич.возм'!F27 -> 0 | G27: 0.034466 | H27: =F27-G27 -> -0.034466
D28: ИНВЕСТСЕРВИС ООО | E28: транзит | F28: ='Прил.4_ф-6_ПЛАН налич.возм'!F28 -> 0 | G28: 0.213756 | H28: =F28-G28 -> -0.213756
D29: ПЛАНЕТА АВТО ООО | E29: транзит | F29: ='Прил.4_ф-6_ПЛАН налич.возм'!F29 -> 0 | G29: 0.062512 | H29: =F29-G29 -> -0.062512
A30: 13 | C30: ООО "Технопарк "Тракторозаводский"" | D30: ООО "Технопарк "Тракторозаводский"" | E30: транзит | F30: ='Прил.4_ф-6_ПЛАН налич.возм'!F30 -> 0 | H30: =F30-G30 -> 0
A31: 14 | C31: ООО "Лизард" | D31: =C31 -> ООО "Лизард" | E31: транзит | F31: ='Прил.4_ф-6_ПЛАН налич.возм'!F31 -> 0 | H31: =F31-G31 -> 0
A32: 15 | C32: ООО "Научно-производственный центр гидроавтоматики" | D32: =C32 -> ООО "Научно-производственный центр гидроавтоматики" | E32: транзит | F32: ='Прил.4_ф-6_ПЛАН налич.возм'!F32 -> 0 | H32: =F32-G32 -> 0
B33: ИТОГО: | F33: =SUM(F15:F32) -> 1.9692 | G33: =SUM(G15:G32) -> 2.30569 | H33: =SUM(H15:H32) -> -0.33649
H34: Приложение № 4
H35: к приказу ФАС России от 08.09.2022 № 960/22
H36: Форма 6
A38: Информация о наличии (отсутствии) технической возможности доступа к регулируемым услугам
D39: по транспортировке газа по газораспределительным сетям | E39: ООО Индустриальный Парк "Станкомаш"
E40: (наименование субъекта естественной монополии)
E41: ФАКТ
D43: за | E43: ФЕВРАЛЬ | F43: 2026 года
A45: период 01.02.2026 по 28.02.2026 года
A46: № п/п | B46: Точка входа в газораспределительную сеть | C46: Точка выхода из газораспределительной сети | D46: Наименование потребителя | E46: Номер группы газопотребления/ транзит | F46: Объемы газа в соответствии с поступившими заявками, млн. куб. м | G46: Объемы газа в соответствии с удовлетворенными заявками, млн. куб. м | H46: Свободная мощность газораспределительной сети, млн. куб. м
...

Sheet Прил.4_ф-7_Налич.возм.групп
K1: Приложение № 4
K2: к приказу ФАС России от 08.09.2022 № 960/22
K3: Форма 7
A5: Информация о наличии (отсутствии) технической возможности доступа к регулируемым услугам по транспортировке газа по газораспределительным сетям (с детализацией по группам газопотребления)
A6: ООО "Индустриальный Парк "Станкомаш" | I6: за 20 | J6: 26 | K6: год
B7: (наименование субъекта естественной монополии)
A9: период с 01.01.2026 по 31.01.2026
A10: Группа потребления | D10: Объемы газа в соответствии с поступившими заявками, тыс. м3 | H10: Объемы газа в соответствии с удовлетворенными заявками, тыс. м3
A11: 1 | D11: 2 | H11: 3
A12: Дифференцированный тариф всего, в т.ч.: | D12: =SUM(D13:G20) -> 0 | H12: =SUM(H13:K20) -> 0
A13: 1 группа | D13: 0 | H13: 0
A14: 2 группа | D14: 0 | H14: 0
A15: 3 группа | D15: 0 | H15: 0
A16: 4 группа | D16: 0 | H16: 0
A17: 5 группа | D17: 0 | H17: 0
A18: 6 группа | D18: 0 | H18: 0
A19: 7 группа | D19: 0 | H19: 0
A20: 8 группа (население) | D20: 0 | H20: 0
A21: Транзитный тариф | D21: =SUM('Прил.4_ф-6_ФАКТ налич.возм'!F33)*1000 -> 1969.2 | H21: =SUM('Прил.4_ф-6_ФАКТ налич.возм'!G33)*1000 -> 2305.69
A22: Итого: | D22: =D21+D12 -> 1969.2 | H22: =H21+H12 -> 2305.69
K24: Приложение № 4
K25: к приказу ФАС России от 08.09.2022 № 960/22
K26: Форма 7
A28: Информация о наличии (отсутствии) технической возможности доступа к регулируемым услугам по транспортировке газа по газораспределительным сетям (с детализацией по группам газопотребления)
A29: ООО "Индустриальный Парк "Станкомаш" | I29: за 20 | J29: 26 | K29: год
B30: (наименование субъекта естественной монополии)
A32: период с 01.02.2026 по 29.02.2026
A33: Группа потребления | D33: Объемы газа в соответствии с поступившими заявками, тыс. м3 | H33: Объемы газа в соответствии с удовлетворенными заявками, тыс. м3
A34: 1 | D34: 2 | H34: 3
A35: Дифференцированный тариф всего, в т.ч.: | D35: =SUM(D36:G43) -> 0 | H35: =SUM(H36:K43) -> 0
A36: 1 группа | D36: 0 | H36: 0
A37: 2 группа | D37: 0 | H37: 0
A38: 3 группа | D38: 0 | H38: 0
A39: 4 группа | D39: 0 | H39: 0
A40: 5 группа | D40: 0 | H40: 0
A41: 6 группа | D41: 0 | H41: 0
A42: 7 группа | D42: 0 | H42: 0
A43: 8 группа (население) | D43: 0 | H43: 0
A44: Транзитный тариф | D44: =SUM('Прил.4_ф-6_ФАКТ налич.возм'!F66)*1000 -> 1728.2 | H44: =SUM('Прил.4_ф-6_ФАКТ налич.возм'!G66)*1000 -> 1726.176
A45: Итого: | D45: =D44+D35 -> 1728.2 | H45: =H44+H35 -> 1726.176
...

Sheet Прил.5_ф-2_Реализ.заявок
G1: Приложение № 5
G2: к приказу ФАС России от 08.09.2022 № 960/22
G3: Форма 2
A4: Информация о регистрации и ходе реализации заявок на доступ к услугам по транспортировке газа по газораспределительным сетям
B5: Общество с ограниченной ответственностью Индустриальный Парк "Станкомаш"
A7: в г. Челябинск, Индустриальный Парк "Станкомаш"
G8: период с 01.01.2026 по 31.01.2026
A9: Наименование газораспределительной сети | B9: Точка входа в газораспреде-лительную сеть | C9: Количество поступивших заявок, штук | D9: Количество отклоненных заявок, штук | F9: Количество заявок, находящихся на рассмотрении, штук | G9: Количество удовлетворенных заявок, штук
D10: в связи с отсутствием документов | E10: в связи с отсутствием технической возможности
A11: 1 | B11: 2 | C11: 3 | D11: 4 | E11: 5 | F11: 6 | G11: 7
A12: Газораспределительная сеть ООО Индустриальный Парк "Станкомаш" г.Челябинск | B12: ГРПБ | C12: 1 | D12: - | E12: - | F12: 1 | G12: -
G14: Приложение № 5
G15: к приказу ФАС России от 08.09.2022 № 960/22
G16: Форма 2
A17: Информация о регистрации и ходе реализации заявок на доступ к услугам по транспортировке газа по газораспределительнымтям
A18: сетям ООО Индустриальный Парк "Станкомаш"
A19: в г. Челябинск
G21: период с 01.02.2026 по 29.02.2026
A22: Наименование газораспределительной сети | B22: Точка входа в газораспреде-лительную сеть | C22: Количество поступивших заявок, штук | D22: Количество отклоненных заявок, штук | F22: Количество заявок, находящихся на рассмотрении, штук | G22: Количество удовлетворенных заявок, штук
D23: в связи с отсутствием документов | E23: в связи с отсутствием технической возможности
A24: 1 | B24: 2 | C24: 3 | D24: 4 | E24: 5 | F24: 6 | G24: 7
A25: Газораспределительная сеть ООО Индустриальный Парк "Станкомаш" г.Челябинск | B25: ГРПБ | C25: - | D25: - | E25: - | F25: 1 | G25: -
G27: Приложение № 5
G28: к приказу ФАС России от 08.09.2022 № 960/22
G29: Форма 2
A30: Информация о регистрации и ходе реализации заявок на доступ к услугам по транспортировке газа по газораспределительным сетям
B31: Общество с ограниченной ответственностью Индустриальный Парк "Станкомаш"
A33: в г. Челябинск, Индустриальный Парк "Станкомаш"
G34: период с 01.03.2026 по 31.03.2026
A35: Наименование газораспределительной сети | B35: Точка входа в газораспреде-лительную сеть | C35: Количество поступивших заявок, штук | D35: Количество отклоненных заявок, штук | F35: Количество заявок, находящихся на рассмотрении, штук | G35: Количество удовлетворенных заявок, штук
D36: в связи с отсутствием документов | E36: в связи с отсутствием технической возможности
A37: 1 | B37: 2 | C37: 3 | D37: 4 | E37: 5 | F37: 6 | G37: 7
A38: Газораспределительная сеть ООО Индустриальный Парк "Станкомаш" г.Челябинск | B38: ГРПБ | C38: 1 | D38: - | E38: - | F38: 2 | G38: -
G41: Приложение № 5
G42: к приказу ФАС России от 08.09.2022 № 960/22
G43: Форма 2
A44: Информация о регистрации и ходе реализации заявок на доступ к услугам по транспортировке газа по газораспределительным сетям
B45: Общество с ограниченной ответственностью Индустриальный Парк "Станкомаш"
A47: в г. Челябинск, Индустриальный Парк "Станкомаш"
G48: период с 01.04.2026 по 30.04.2026
...

Sheet Прил.6_ф-2_Заявки
P1: Приложение № 6
P2: к Приказу ФАС России от 08.12.2022г. № 960/22
P3: Форма 3
A4: Информация о регистрации и ходе реализации заявок о подключении (технологическом присоединении)
A5: к газораспределительным сетям ООО Индустриальный Парк "Станкомаш"
I6: (наименование субъекта естественной монополии)
A8: период с 01.01.2026 по 31.01.2026
A9: Номер по порядку | B9: Категория заявителей | E9: Количество поступивших заявок | G9: Количество отклонённых заявок | M9: Количество заключённых договоров | O9: Количество выполненных присоединений
E10: количество, шт. | F10: объём, м³/час | G10: количество, шт. | H10: объём, м³/час | I10: причина отклонения | M10: количество, шт. | N10: объём, м³/час | O10: количество, шт. | P10: объём, м³/час
I11: непредставление документов | J11: отсутствие технической возможности
J12: в объектах газораспределительной организации | K12: в сетях исполнителя | L12: в технологически связанных с сетью газораспределения исполнителя сетях газораспределения
B13: 1 | E13: 2 | F13: 3 | G13: 4 | H13: 5 | I13: 6 | J13: 7 | K13: 8 | L13: 9 | M13: 10 | N13: 11 | O13: 12 | P13: 13
A14: 1 | B14: I категория | C14: физическое лицо | D14: плата | E14: - | F14: - | G14: - | H14: - | I14: - | J14: - | K14: - | L14: - | M14: - | N14: - | O14: - | P14: -
A15: 2 | D15: стандартизованные ставки | E15: - | F15: - | G15: - | H15: - | I15: - | J15: - | K15: - | L15: - | M15: - | N15: - | O15: - | P15: -
A16: 3 | C16: юридическое лицо | D16: плата | E16: - | F16: - | G16: - | H16: - | I16: - | J16: - | K16: - | L16: - | M16: - | N16: - | O16: - | P16: -
A17: 4 | D17: стандартизованные ставки | E17: - | F17: - | G17: - | H17: - | I17: - | J17: - | K17: - | L17: - | M17: - | N17: - | O17: - | P17: -
A18: 5 | B18: II категория | C18: физическое лицо | D18: стандартизованные ставки | E18: - | F18: - | G18: - | H18: - | I18: - | J18: - | K18: - | L18: - | M18: - | N18: - | O18: - | P18: -
A19: 6 | C19: юридическое лицо | D19: стандартизованные ставки | E19: 2 | F19: 3450 | G19: - | H19: - | I19: - | J19: - | K19: - | L19: - | M19: 2 | N19: 3450 | O19: - | P19: -
A20: 7 | B20: III категория | C20: физическое лицо | D20: стандартизованные ставки | E20: - | F20: - | G20: - | H20: - | I20: - | J20: - | K20: - | L20: - | M20: - | N20: - | O20: - | P20: -
A21: 8 | C21: юридическое лицо | D21: стандартизованные ставки | E21: - | F21: - | G21: - | H21: - | I21: - | J21: - | K21: - | L21: - | M21: - | N21: - | O21: - | P21: -
A22: 9 | B22: Индивидуальный проект | C22: проведение мероприятий по ликвидации дефицита пропускной способности | E22: - | F22: - | G22: - | H22: - | I22: - | J22: - | K22: - | L22: - | M22: - | N22: - | O22: - | P22: -
A23: 10 | C23: проведение лесоустроительных работ | E23: - | F23: - | G23: - | H23: - | I23: - | J23: - | K23: - | L23: - | M23: - | N23: - | O23: - | P23: -
A24: 11 | C24: врезка в газопроводы диаметром более 250 мм под давлением не менее 0,3 МПа | E24: - | F24: - | G24: - | H24: - | I24: - | J24: - | K24: - | L24: - | M24: - | N24: - | O24: - | P24: -
A25: 12 | C25: переход через водные преграды | E25: - | F25: - | G25: - | H25: - | I25: - | J25: - | K25: - | L25: - | M25: - | N25: - | O25: - | P25: -
A26: 13 | C26: прокладка газопроводов по болотам, в скальных породах, охраняемых территориях | E26: - | F26: - | G26: - | H26: - | I26: - | J26: - | K26: - | L26: - | M26: - | N26: - | O26: - | P26: -
A27: 14 | C27: прокладка газопровода длиной более 30 м и диаметром более 158 мм бестраншейным способом | E27: - | F27: - | G27: - | H27: - | I27: - | J27: - | K27: - | L27: - | M27: - | N27: - | O27: - | P27: -
A28: 15 | B28: Заявители в рамках догазификации | E28: - | F28: - | G28: ////////// | H28: ////////// | I28: ////////// | J28: ////////// | K28: ////////// | L28: ////////// | M28: - | N28: - | O28: - | P28: -
A29: 15.1. | B29: в том числе заявители, с которыми заключены договоры со сроком технологического подключения при увеличении пропускной способности объектов газотранспортной организации | E29: - | F29: - | G29: ////////// | H29: ////////// | I29: ////////// | J29: ////////// | K29: ////////// | L29: ////////// | M29: - | N29: - | O29: - | P29: -
A30: 16 | B30: Итого: | E30: =SUM(E14:E28) -> 2 | F30: =SUM(F14:F28) -> 3450 | G30: =SUM(G14:G28) -> 0 | H30: =SUM(H14:H28) -> 0 | I30: =SUM(I14:I28) -> 0 | J30: =SUM(J14:J28) -> 0 | K30: =SUM(K14:K28) -> 0 | L30: =SUM(L14:L28) -> 0 | ... P30: =SUM(P14:P28) -> 0
A31: 17 | B31: Количество отклоненных заявок (из столбца 7, по строке 16) по причине отсутствия технической возможности в объектах газотранспортной организации (пообъектно) и количество заключенных договоров в рамках догазификации (со сроком технологического подключения при увеличении пропускной способности объектов газотранспортной организации), в зависимости от превышения пропускной способности объекта от проектной величины, шт.
B32: Объекты газотранспортной системы | E32: свыше 3% | G32: свыше 5% | J32: свыше 7% | M32: свыше 10% | O32: свыше 20%
B33: 1 .......
B34: 2 .......
P36: Приложение № 6
P37: к Приказу ФАС России от 08.12.2022г. № 960/22
P38: Форма 3
A39: Информация о регистрации и ходе реализации заявок о подключении (технологическом присоединении)
A40: к газораспределительным сетям ООО Индустриальный Парк "Станкомаш"
I41: (наименование субъекта естественной монополии)
A43: период с 01.02.2026 по 28.02.2026
...

Sheet Прил.7_ф-2_Условия
D1: Приложение 7
D2: к Приказу ФАС России от 08.12.2022г. № 960/22
D3: Форма 2
A4: Информация об условиях, на которых осуществляется оказание регулируемых услуг по транспортировке газа по газораспределительным сетям
C5: ООО Индустриальный Парк "Станкомаш"
C6: (наименование субъекта естественной монополии)
A8: № | B8: Раскрываемая информация | C8: Сведения о сроках направления заявки на заключение договора | D8: Место размещения сведений в информационно-коммуникационной сети "Интернет"
A9: 1 | B9: Заявка на заключение договора транспортировки газа | C9: - по договорам, заключаемым на срок до одного года, - не позднее чем за месяц и не ранее чем за три месяца до указанной в заявке даты начала транспортировки; | D9: https://stankomash.konar.ru/raskrytie-informacii/
C10: - по договорам, заключаемым на срок более одного года и до пяти лет, - не позднее чем за три месяца и не ранее чем за один год до начала года, в котором начнется транспортировка;
C11: - по договорам, заключаемым на срок более пяти лет, - не позднее чем за шесть месяцев и не ранее чем за три года до начала года, в котором начнется транспортировка.
A12: 2 | B12: Договор на оказание услуг по транспортировке газа для обеспечения коммунально-бытовых нужд | C12: - | D12: -
A13: 3 | B13: Договор на оказание услуг по транспортировке газа для прочих потребителей | C13: - | D13: -
A14: 4 | B14: Договор на оказание услуг по транспортировке газа в транзитном потоке газораспределительной организации/потребителю | C14: - по договорам, заключаемым на срок до одного года, - не позднее чем за месяц и не ранее чем за три месяца до указанной в заявке даты начала транспортировки; | D14: https://stankomash.konar.ru/raskrytie-informacii/
C15: - по договорам, заключаемым на срок более одного года и до пяти лет, - не позднее чем за три месяца и не ранее чем за один год до начала года, в котором начнется транспортировка;
C16: - по договорам, заключаемым на срок более пяти лет, - не позднее чем за шесть месяцев и не ранее чем за три года до начала года, в котором начнется транспортировка.

Sheet Прил.7_ф-3_Инф-я об усл 
C1: Приложение 7
C2: к Приказу ФАС России от 08.12.2022г. № 960/22
C3: Форма 3
A6: Информация об условиях, на которых осуществляется оказание услуг по подключению (технологическому присоединению)
A7: к газораспределительным сетям ООО Индустриальный Парк "Станкомаш"*
A9: N | B9: Раскрываемая информация | C9: Место размещения информации в информационно-коммуникационной сети "Интернет"
A10: 1 | B10: Перечень документов, направляемых для рассмотрения заявки о подключении (технологическом присоединении) | C10: https://stankomash.konar.ru/raskrytie-informacii/
A11: 2 | B11: Заявка о заключении договора о подключении (технологическом присоединении) газоиспользующего оборудования и объектов капитального строительства к сети газораспределения | C11: https://stankomash.konar.ru/raskrytie-informacii/
A12: 3 | B12: Заявка о заключении договора на подключение (технологическое присоединение) существующей и (или) проектируемой сети газораспределения к сетям газораспределения | C12: https://stankomash.konar.ru/raskrytie-informacii/
A13: 4 | B13: Заявка о заключении договора о подключении (технологическом присоединении) газоиспользующего оборудования и объектов капитального строительства к сети газораспределения в рамках догазификации | C13: https://stankomash.konar.ru/raskrytie-informacii/
A14: 5 | B14: Заявка о заключении договора о подключении (технологическом присоединении) газоиспользующего оборудования и объектов капитального строительства к сетям газораспределения через сети основного абонента | C14: https://stankomash.konar.ru/raskrytie-informacii/
A15: 6 | B15: Договор о подключении (технологическом присоединении) газоиспользующего оборудования и объектов капитального строительства к сети газораспределения | C15: https://stankomash.konar.ru/raskrytie-informacii/
A16: 7 | B16: Договор о подключении (технологическом присоединении) существующей и (или) проектируемой сети газораспределения к сетям газораспределения | C16: https://stankomash.konar.ru/raskrytie-informacii/
A17: 8 | B17: Договор о подключении (технологическом присоединении) газоиспользующего оборудования к сети газораспределения в рамках догазификации | C17: https://stankomash.konar.ru/raskrytie-informacii/
A18: 9 | B18: Информация о плате за подключение (технологическое присоединение) к газораспределительным сетям | C18: https://stankomash.konar.ru/raskrytie-informacii/
A19: 10 | B19: Сведения о структурных подразделениях, осуществляющих прием заявок на подключение (технологическое присоединение) | C19: https://stankomash.konar.ru/raskrytie-informacii/
A20: *Социально значимые группы потребителей и население на производственной площадке ООО Индустриальный Парк "Станкомаш" - отсутствуют.

Sheet Прил.8_ф-2_Порядок вып меропр.
I1: Приложение 8
I2: к Приказу ФАС России от 08.12.2022г. № 960/22
I3: Форма 2
A5: Информация о порядке выполнения технологических, технических и других мероприятий, связанных с подключением (присоединением)
A6: к газораспределительным сетям ООО Индустриальный Парк "Станкомаш"
F7: (наименование субъекта естественной монополии)
A9: Наименование газораспреде-лительной сети | B9: Точка входа в газораспреде-лительную сеть | C9: Точка выхода из газораспреде-лительной сети | D9: Перечень технологических мероприятий, связанных с подключением (подсоединением) к газораспредели-тельной сети, и регламент их выполнения | E9: Порядок выполнения технологических мероприятий, связанных с подключением (подсоединением) к газораспредели-тельной сети, и регламент их выполнения | F9: Перечень технических мероприятий, связанных с подключением (подсоединением) к газораспредели-тельной сети, и регламент их выполнения | G9: Порядок выполнения технических мероприятий, связанных с подключением (подсоединением) к газораспредели-тельной сети, и регламент их выполнения | H9: Перечень иных мероприятий, связанных с подключением (подсоединением) к газораспределительной сети, и регламент их выполнения | I9: Порядок выполнения иных мероприятий, связанных с подключением (подоединением) к газораспределительной сети, и регламент их выполнения
A10: 1 | B10: 2 | C10: 3 | D10: 4 | E10: 5 | F10: 6 | G10: 7 | H10: 8 | I10: 9
A11: Газораспределительная сеть ООО Индустриальный Парк "Станкомаш" г. Челябинск | B11: ГРП | C11: Газопроводы вводы к промышленным предприятиям | D11: Присоединение в зависимости от возможностей технологии, может производится как с прекращением подачи газа потребителям системы газораспределения и сбросом газа в атмосферу, так и без отключений и сброса газа. В том случае, если необходимо произвести прекращение подачи газа потребителям, посредством запорной арматуры на газопроводах, выполняется отключение участка, к которому производится присоединение. При приминении устройства "для присоединения без прекращения газоснабжения", прекращени газоснабжения не требуется. | E11: При прекращении газоснабжения: 1) Отключения участка газопровода, к которому планируется произвести подклбючение; 2) Освобождение газопровода от газа с выработкой на потребителя и сбросом отсатков газа в атмосферу; 3) Продувка воздухом или инертным газом; 4) Контроль загозованности в газопроводе; 5) Контрольная опрессовка присоединяемого объекта; 6) присоединение; 7)Испытание на гермитичность места присоединения; 8) Совместная опрессовка вновь присоединенного объекта и отключенного участка газопровода; 9) Пуск газа. Без прекращения газоснабжения: 1) Контрольная опрессовка присоединяемого объекта; 2) Присоединение; 3) Испытание на гермитичность места присоединения; 4) Пуск газа с использованием устройствадля присоединения без прекращения газоснабжения | F11: 1) Сдача законного строительством объекта газоснабжения комиссии с участием представителя газораспределительной организации; 2) Получение разрешения на ввод объекта в эксплуатацию; 3) Согласование прекращения газоснабжения портебителей . | G11: 1) Оформление акта приемки газораспеделительной системы; 2) Оформление на ввод объекта в эксплуатацию; 3) Согласование прекращения газонабжения потребителей. | H11: - | I11: -
A13: Социально значимые группы потребителей и население на производственной площадке ООО Индустриальный Парк "Станкомаш" - отсутствуют.

Sheet Прил.9_ф-2 Инвест.пр.
J1: Приложение 9
J2: к Приказу ФАС России от 08.12.2022г. № 960/22
J3: Форма 2
A5: Информация об инвестиционных программах ООО Индустриальный Парк "Станкомаш"
A6: на (за) 2026 год в сфере транспортировки газа по газораспределительным сетям
A7: ИНВЕСТИЦИОННАЯ ПРОГРАММА ОТСУТСТВУЕТ
A9: N | B9: Наименование показателя | C9: Сроки строительства | E9: Стоимостная оценка инвестиций, тыс. руб. (без НДС) | H9: Основные проектные характеристики объектов капитального строительства
C10: начало | D10: окончание | E10: совокупно по объекту | F10: в отчетном периоде | G10: источник финансирования | H10: протяженность линейной части газопроводов, км | I10: диаметр (диапазон диаметров) газопроводов, мм | J10: количество газорегуляторных пунктов, единиц
A11: 1 | B11: 2 | C11: 3 | D11: 4 | E11: 5 | F11: 6 | G11: 7 | H11: 8 | I11: 9 | J11: 10
A12: 1. | B12: Общая сумма инвестиций | C12: - | D12: - | E12: - | F12: - | G12: - | H12: - | I12: - | J12: -
A13: 2. | B13: Сведения о строительстве, реконструкции объектов капитального строительства | C13: - | D13: - | E13: - | F13: - | G13: - | H13: - | I13: - | J13: -
A14: 2.1. | C14: - | D14: - | E14: - | F14: - | G14: - | H14: - | I14: - | J14: -
A15: 3. | B15: Объекты капитального строительства (основные стройки): | C15: - | D15: - | E15: - | F15: - | G15: - | H15: - | I15: - | J15: -
A16: 3.1. | C16: - | D16: - | E16: - | F16: - | G16: - | H16: - | I16: - | J16: -
A17: 4. | B17: Новые объекты: | C17: - | D17: - | E17: - | F17: - | G17: - | H17: - | I17: - | J17: -
A18: 4.1. | C18: - | D18: - | E18: - | F18: - | G18: - | H18: - | I18: - | J18: -
A19: 5. | B19: Реконструируемые (модернизируемые) объекты: | C19: - | D19: - | E19: - | F19: - | G19: - | H19: - | I19: - | J19: -
A20: 5.1. | C20: - | D20: - | E20: - | F20: - | G20: - | H20: - | I20: - | J20: -
A21: 6. | B21: Сведения о приобретении оборудования, не входящего в сметы строек | C21: - | D21: - | E21: - | F21: - | G21: - | H21: - | I21: - | J21: -
A22: 6.1. | C22: - | D22: - | E22: - | F22: - | G22: - | H22: - | I22: - | J22: -
A23: 7. | B23: Сведения о долгосрочных финансовых вложениях | C23: - | D23: - | E23: - | F23: - | G23: - | H23: - | I23: - | J23: -
A24: 7.1. | C24: - | D24: - | E24: - | F24: - | G24: - | H24: - | I24: - | J24: -
A25: 8. | B25: Сведения о приобретении внеоборотных активов | C25: - | D25: - | E25: - | F25: - | G25: - | H25: - | I25: - | J25: -
A26: 8.1. | C26: - | D26: - | E26: - | F26: - | G26: - | H26: - | I26: - | J26: -
A27: Социально значимые группы потребителей и население на производственной площадке ООО Индустриальный Парк "Станкомаш" - отсутствуют.

Sheet Прил.10_закуп товаров
V2: Приложение 10
V3: к Приказу ФАС России от 08.12.2022г. № 960/22
A5: Информация о способах приобретения, стоимости и объемах товаров, необходимых для оказания услуг по транспортировке газа
M6: по трубопроводам | N6: ООО Индустриальный Парк "Станкомаш"
N7: (наименование субъекта естественной монополии)
A8: период с 01.01.2026 по 31.01.2026
A9: № | B9: Дата закупки | C9: Способ осуществления закупки | P9: Предмет закупки | Q9: Цена за единицу товара, работ, услуг (тыс. руб.) | R9: Единица измерения | S9: Количество (объем товаров, работ, услуг) | T9: Сумма закупки (товаров, работ, услуг) (тыс. руб.) | U9: Поставщик (подрядная организация) | V9: Реквизиты документа
C10: Конкурентные закупки | N10: Неконкурентная закупка
C11: Торги | M11: Иной способ, установленный положением о закупке
C12: конкурс | F12: аукцион | I12: запрос котировок | K12: запрос предложений | N12: единственный поставщик (исполнитель, подрядчик) | O12: иное
C13: открытый конкурс | D13: конкурс в электронной форме | E13: закрытый конкурс | F13: открытый аукцион | G13: аукцион в электронной форме | H13: закрытый аукцион | I13: запрос котировок в электронной форме | J13: закрытый запрос котировок | K13: запрос предложений в электронной форме | L13: закрытый запрос предложений
A14: 1 | B14: 2 | C14: 3 | D14: 4 | E14: 5 | F14: 6 | G14: 7 | H14: 8 | I14: 9 | J14: 10 | K14: 11 | L14: 12 | M14: 13 | N14: 14 | O14: 15 | P14: 16 | Q14: 17 | R14: 18 | S14: 19 | T14: 20 | U14: 21 | V14: 22
A15: 1 | B15: 46023 | M15: 1 | P15: Услуги сотовой связи | Q15: =T15/S15 -> 0.37949 | R15: шт | S15: 1 | T15: 0.37949
A16: 2 | B16: 46023 | M16: 1 | P16: Тепловая энергия | Q16: =T16/S16 -> 1.7555679 | R16: Гкал | S16: 17.847 | T16: 31.33162
A17: 3 | B17: 46023 | M17: 1 | P17: Водоснабжение (питьевая вода) | Q17: =T17/S17 -> 0.12120269 | R17: м3 | S17: 26 | T17: 3.15127
A18: 4 | B18: 46023 | M18: 1 | P18: Водоотведение | Q18: =T18/S18 -> 0.075076154 | R18: м3 | S18: 26 | T18: 1.95198
V20: Приложение 10
V21: к Приказу ФАС России от 08.12.2022г. № 960/22
A23: Информация о способах приобретения, стоимости и объемах товаров, необходимых для оказания услуг по транспортировке газа
M24: по трубопроводам | N24: ООО Индустриальный Парк "Станкомаш"
N25: (наименование субъекта естественной монополии)
A26: период с 01.02.2026 по 28.02.2026
A27: № | B27: Дата закупки | C27: Способ осуществления закупки | P27: Предмет закупки | Q27: Цена за единицу товара, работ, услуг (тыс. руб.) | R27: Единица измерения | S27: Количество (объем товаров, работ, услуг) | T27: Сумма закупки (товаров, работ, услуг) (тыс. руб.) | U27: Поставщик (подрядная организация) | V27: Реквизиты документа
C28: Конкурентные закупки | N28: Неконкурентная закупка
C29: Торги | M29: Иной способ, установленный положением о закупке
C30: конкурс | F30: аукцион | I30: запрос котировок | K30: запрос предложений | N30: единственный поставщик (исполнитель, подрядчик) | O30: иное
C31: открытый конкурс | D31: конкурс в электронной форме | E31: закрытый конкурс | F31: открытый аукцион | G31: аукцион в электронной форме | H31: закрытый аукцион | I31: запрос котировок в электронной форме | J31: закрытый запрос котировок | K31: запрос предложений в электронной форме | L31: закрытый запрос предложений
A32: 1 | B32: 2 | C32: 3 | D32: 4 | E32: 5 | F32: 6 | G32: 7 | H32: 8 | I32: 9 | J32: 10 | K32: 11 | L32: 12 | M32: 13 | N32: 14 | O32: 15 | P32: 16 | Q32: 17 | R32: 18 | S32: 19 | T32: 20 | U32: 21 | V32: 22
A33: 1 | B33: 46054 | M33: 1 | P33: Услуги сотовой связи | Q33: =T33/S33 -> 0.41097 | R33: шт | S33: 1 | T33: 0.41097
A34: 2 | B34: 46054 | M34: 1 | P34: Тепловая энергия | Q34: =T34/S34 -> 1.7157549 | R34: Гкал | S34: 15.493 | T34: 26.58219
A35: 3 | B35: 46054 | M35: 1 | P35: Водоснабжение (питьевая вода) | Q35: =T35/S35 -> 0.1161048 | R35: м3 | S35: 25 | T35: 2.90262
A36: 4 | B36: 46054 | M36: 1 | P36: Водоотведение | Q36: =T36/S36 -> 0.0838268 | R36: м3 | S36: 25 | T36: 2.09567
A37: 5 | B37: 46054 | M37: 1 | P37: Услуги по обслуживанию оборудования КИПиА (ППР) Пункт редуцирования газа (ПРГ) | Q37: =T37/S37 -> 1.8 | R37: шт | S37: 1.25 | T37: 2.25
A38: 6 | B38: 46054 | M38: 1 | P38: Кран газовый 11б27п Ду20 (ручка) Бологое | Q38: =T38/S38 -> 0.17966 | R38: шт | S38: 2 | T38: 0.35932
A39: 7 | B39: 46054 | M39: 1 | P39: Подводка для газа сильфонная 3/4" гайка штуцер 150см СТМ | Q39: =T39/S39 -> 0.45896 | R39: шт | S39: 2 | T39: 0.91792
A40: 8 | B40: 46054 | M40: 1 | P40: Лента ФУМ 19х0,2мм 15м арт.93042 TERMA | Q40: =T40/S40 -> 0.102616 | R40: шт | S40: 5 | T40: 0.51308
A41: 9 | B41: 46054 | M41: 1 | P41: Паронит листовой 4мм 2х2м ПОН-Б | Q41: =T41/S41 -> 3.2737 | R41: лист | S41: 0.3 | T41: 0.98211
A42: 10 | B42: 46054 | M42: 1 | P42: Шайба оцинкованная кузовная М8 (упак.100шт) арт.005631 СТРОЙБАТ | Q42: =T42/S42 -> 0.00041960662 | R42: шт | S42: 32.03 | T42: 0.01344
V44: Приложение 10
V45: к Приказу ФАС России от 08.12.2022г. № 960/22
...
